BEGIN:VCALENDAR
VERSION:2.0
PRODID:-//JNJ EasyTours - ECPv6.15.13.1//NONSGML v1.0//EN
CALSCALE:GREGORIAN
METHOD:PUBLISH
X-ORIGINAL-URL:https://jnjeasytours.com.ph
X-WR-CALDESC:Events for JNJ EasyTours
REFRESH-INTERVAL;VALUE=DURATION:PT1H
X-Robots-Tag:noindex
X-PUBLISHED-TTL:PT1H
BEGIN:VTIMEZONE
TZID:UTC
BEGIN:STANDARD
TZOFFSETFROM:+0000
TZOFFSETTO:+0000
TZNAME:UTC
DTSTART:20220101T000000
END:STANDARD
END:VTIMEZONE
BEGIN:VEVENT
DTSTART;VALUE=DATE:20231019
DTEND;VALUE=DATE:20231023
DTSTAMP:20260424T174739
CREATED:20231101T075513Z
LAST-MODIFIED:20231102T012317Z
UID:1777-1697673600-1698019199@jnjeasytours.com.ph
SUMMARY:Natasha Singapore Incentive Trip
DESCRIPTION:
URL:https://jnjeasytours.com.ph/event/natasha-singapore-incentive-trip/
LOCATION:Singapore\, Singapore
CATEGORIES:Incentive Trip
ATTACH;FMTTYPE=image/jpeg:https://jnjeasytours.com.ph/wp-content/uploads/2023/11/394302892_10228689690140874_483730831001153857_n.jpg
ORGANIZER;CN="JNJ EasyTours":MAILTO:info@jnjeasytours.com.ph
END:VEVENT
BEGIN:VEVENT
DTSTART;VALUE=DATE:20230510
DTEND;VALUE=DATE:20230513
DTSTAMP:20260424T174739
CREATED:20230822T072314Z
LAST-MODIFIED:20231121T001843Z
UID:1064-1683676800-1683935999@jnjeasytours.com.ph
SUMMARY:1st Int’l Wellness Tourism Expo 2023
DESCRIPTION:iWT brings together all for “wellness tourism” such as facilities\, activities\, healthy foods\, and regions related to travel for a healthy mind and body.
URL:https://jnjeasytours.com.ph/event/1st-intl-wellness-tourism-expo-2023/
LOCATION:Japan\, Tokyo Big Sight\, Japan\, Tokyo\, Tokyo
CATEGORIES:Seminars
ATTACH;FMTTYPE=image/jpeg:https://jnjeasytours.com.ph/wp-content/uploads/2023/08/viber_image_2023-08-21_17-32-31-351.jpg
ORGANIZER;CN="Wellness Tourism":MAILTO:wellness_tourism-en.jp@rxglobal.com
END:VEVENT
END:VCALENDAR